BEGIN:VCALENDAR
VERSION:2.0
PRODID:-//ChamberMaster//Event Calendar 2.0//EN
METHOD:PUBLISH
X-PUBLISHED-TTL:P3D
REFRESH-INTERVAL:P3D
CALSCALE:GREGORIAN
BEGIN:VEVENT
DTSTART:20160318T233000Z
DTEND:20160319T010000Z
X-MICROSOFT-CDO-ALLDAYEVENT:FALSE
SUMMARY:Live Theater - "Southern Fried Funeral"
DESCRIPTION:A Southern funeral for the patriarch and the family\, friends and loved ones can be "just too much"! By J Dietz Osborne and Nate Eppler Rated PG-13
X-ALT-DESC;FMTTYPE=text/html:A Southern funeral for the patriarch and the family\, friends and loved ones can be "just too much"! By J Dietz Osborne and Nate Eppler Rated PG-13
LOCATION:Blue Ridge Community Theater 2591 East First Street Blue Ridge GA 30513
UID:e.256.49596
SEQUENCE:3
DTSTAMP:20260421T040300Z
URL:https://members.visitblairsvillega.com/events/details/live-theater-southern-fried-funeral-03-18-2016-49596
END:VEVENT

END:VCALENDAR
