BEGIN:VCALENDAR
VERSION:2.0
PRODID:-//ChamberMaster//Event Calendar 2.0//EN
METHOD:PUBLISH
X-PUBLISHED-TTL:P3D
REFRESH-INTERVAL:P3D
CALSCALE:GREGORIAN
BEGIN:VEVENT
DTSTART:20160320T180000Z
DTEND:20160320T193000Z
X-MICROSOFT-CDO-ALLDAYEVENT:FALSE
SUMMARY:Live Theater - "Southern Fried Funeral"
DESCRIPTION:A Southern funeral for the patriarch and the family\, friends and loved ones can be "just too much"! By J Dietz Osborne and Nate Eppler Rated PG-13
X-ALT-DESC;FMTTYPE=text/html:A Southern funeral for the patriarch and the family\, friends and loved ones can be &quot\;just too much&quot\;! By J Dietz Osborne and Nate Eppler Rated PG-13
LOCATION:Blue Ridge Community Theater 2591 East First Street Blue Ridge GA 30513
UID:e.256.49494
SEQUENCE:3
DTSTAMP:20260421T022151Z
URL:https://members.visitblairsvillega.com/events/details/live-theater-southern-fried-funeral-03-20-2016-49494
END:VEVENT

END:VCALENDAR
