BEGIN:VCALENDAR
VERSION:2.0
PRODID:-//ChamberMaster//Event Calendar 2.0//EN
METHOD:PUBLISH
X-PUBLISHED-TTL:P3D
REFRESH-INTERVAL:P3D
CALSCALE:GREGORIAN
BEGIN:VEVENT
DTSTART:20151003T233000Z
DTEND:20151004T010000Z
X-MICROSOFT-CDO-ALLDAYEVENT:FALSE
SUMMARY:Live Theater - Steel Magnolias
DESCRIPTION:The renowned Southern story of friendship told through laughter and tears. PG-13
X-ALT-DESC;FMTTYPE=text/html:The renowned Southern story of friendship told through laughter and tears. PG-13
LOCATION:Blue Ridge Community Theater 2591 East First St. Blue Ridge GA 30513
UID:e.256.34561
SEQUENCE:3
DTSTAMP:20260423T103905Z
URL:https://members.visitblairsvillega.com/events/details/live-theater-steel-magnolias-10-03-2015-34561
END:VEVENT

END:VCALENDAR
