BEGIN:VCALENDAR
VERSION:2.0
PRODID:-//ChamberMaster//Event Calendar 2.0//EN
METHOD:PUBLISH
X-PUBLISHED-TTL:P3D
REFRESH-INTERVAL:P3D
CALSCALE:GREGORIAN
BEGIN:VEVENT
DTSTART:20161209T003000Z
DTEND:20161209T020000Z
X-MICROSOFT-CDO-ALLDAYEVENT:FALSE
SUMMARY:Live Theater - "The Bench - A Christmas Story"
DESCRIPTION:Watch Christmas unfold all around these two men as they become friends on The Bench. By Larry Larson and Eddie Levi Lee Rated G
X-ALT-DESC;FMTTYPE=text/html:Watch Christmas unfold all around these two men as they become friends on The Bench. By Larry Larson and Eddie Levi Lee Rated G
LOCATION:Blue Ridge Community Theater 2591 East First Street Blue Ridge GA 30513
UID:e.256.49569
SEQUENCE:3
DTSTAMP:20260420T094727Z
URL:https://members.visitblairsvillega.com/events/details/live-theater-the-bench-a-christmas-story-12-08-2016-49569
END:VEVENT

END:VCALENDAR
