BEGIN:VCALENDAR
VERSION:2.0
PRODID:-//ChamberMaster//Event Calendar 2.0//EN
METHOD:PUBLISH
X-PUBLISHED-TTL:P3D
REFRESH-INTERVAL:P3D
CALSCALE:GREGORIAN
BEGIN:VEVENT
DTSTART:20150411T233000Z
DTEND:20150412T010000Z
X-MICROSOFT-CDO-ALLDAYEVENT:FALSE
SUMMARY:Live Theater - The Moving of Lilla Barton
DESCRIPTION:Small town forces collide over how to get the Widow Lilla Barton to move out of the parsonage. PG-13
X-ALT-DESC;FMTTYPE=text/html:Small town forces collide over how to get the Widow Lilla Barton to move out of the parsonage. PG-13
LOCATION:Blue Ridge Community Theater 2591 East First St. Blue Ridge GA 30513
UID:e.256.34505
SEQUENCE:3
DTSTAMP:20260423T200753Z
URL:https://members.visitblairsvillega.com/events/details/live-theater-the-moving-of-lilla-barton-04-11-2015-34505
END:VEVENT

END:VCALENDAR
