BEGIN:VCALENDAR
VERSION:2.0
PRODID:-//ChamberMaster//Event Calendar 2.0//EN
METHOD:PUBLISH
X-PUBLISHED-TTL:P3D
REFRESH-INTERVAL:P3D
CALSCALE:GREGORIAN
BEGIN:VEVENT
DTSTART:20150313T233000Z
DTEND:20150314T010000Z
X-MICROSOFT-CDO-ALLDAYEVENT:FALSE
SUMMARY:Live Theater - The Secret Garden
DESCRIPTION:Sunny D Children's Theater presents - "The Secret Garden". Follow the life of young Mary Lennox who as an orphan is sent from India to live with her Uncle in England. Written by Helen P. Avery
X-ALT-DESC;FMTTYPE=text/html:Sunny D Children's Theater presents - "The Secret Garden". Follow the life of young Mary Lennox who as an orphan is sent from India to live with her Uncle in England. Written by Helen P. Avery
LOCATION:Blue Ridge Community Theater 2591 East First St Blue Ridge GA 30513
UID:e.256.37648
SEQUENCE:3
DTSTAMP:20260423T212452Z
URL:https://members.visitblairsvillega.com/events/details/live-theater-the-secret-garden-03-13-2015-37648
END:VEVENT

END:VCALENDAR
