BEGIN:VCALENDAR
VERSION:2.0
PRODID:-//ChamberMaster//Event Calendar 2.0//EN
METHOD:PUBLISH
X-PUBLISHED-TTL:P3D
REFRESH-INTERVAL:P3D
CALSCALE:GREGORIAN
BEGIN:VEVENT
DTSTART:20150322T180000Z
DTEND:20150322T193000Z
X-MICROSOFT-CDO-ALLDAYEVENT:FALSE
SUMMARY:Live Theater - The Secret Garden
DESCRIPTION:Sunny D Children's Theater presents - "The Secret Garden". Follow the life of young Mary Lennox who as an orphan is sent from India to live with her Uncle in England. Written by Helen P. Avery
X-ALT-DESC;FMTTYPE=text/html:Sunny D Children&#39\;s Theater presents - &quot\;The Secret Garden&quot\;. Follow the life of young Mary Lennox who as an orphan is sent from India to live with her Uncle in England. Written by Helen P. Avery
LOCATION:Blue Ridge Community Theater 2591 East First St Blue Ridge GA 30513
UID:e.256.37665
SEQUENCE:3
DTSTAMP:20260423T230241Z
URL:https://members.visitblairsvillega.com/events/details/live-theater-the-secret-garden-03-22-2015-37665
END:VEVENT

END:VCALENDAR
