BEGIN:VCALENDAR
VERSION:2.0
PRODID:-//ChamberMaster//Event Calendar 2.0//EN
METHOD:PUBLISH
X-PUBLISHED-TTL:P3D
REFRESH-INTERVAL:P3D
CALSCALE:GREGORIAN
BEGIN:VEVENT
DTSTART:20161007T233000Z
DTEND:20161008T010000Z
X-MICROSOFT-CDO-ALLDAYEVENT:FALSE
SUMMARY:Live Theater - "The Wild Guys"
DESCRIPTION:Four guys lost in the woods\, no food and one six-pack makes for a real "Wildman" weekend. By Calgarians Andrew Wreggitt and Rebecca Shaw Rated PG-13
X-ALT-DESC;FMTTYPE=text/html:Four guys lost in the woods\, no food and one six-pack makes for a real "Wildman" weekend. By Calgarians Andrew Wreggitt and Rebecca Shaw Rated PG-13
LOCATION:Blue Ridge Community Theater 2591 East First Street Blue Ridge GA 30513
UID:e.256.49556
SEQUENCE:3
DTSTAMP:20260420T131307Z
URL:https://members.visitblairsvillega.com/events/details/live-theater-the-wild-guys-10-07-2016-49556
END:VEVENT

END:VCALENDAR
