BEGIN:VCALENDAR
VERSION:2.0
PRODID:-//ChamberMaster//Event Calendar 2.0//EN
METHOD:PUBLISH
X-PUBLISHED-TTL:P3D
REFRESH-INTERVAL:P3D
CALSCALE:GREGORIAN
BEGIN:VEVENT
DTSTART:20141004T233000Z
DTEND:20141005T010000Z
X-MICROSOFT-CDO-ALLDAYEVENT:FALSE
SUMMARY:Live Theater - Whose Wives Are They Anyway?
DESCRIPTION:A frantic farce of how far you would go to impress your new boss. Rated PG-13
X-ALT-DESC;FMTTYPE=text/html:A frantic farce of how far you would go to impress your new boss. Rated PG-13
LOCATION:Blue Ridge Community Theater\; Blue Ridge GA
UID:e.256.27460
SEQUENCE:3
DTSTAMP:20260424T045125Z
URL:https://members.visitblairsvillega.com/events/details/live-theater-whose-wives-are-they-anyway-10-04-2014-27460
END:VEVENT

END:VCALENDAR
