BEGIN:VCALENDAR
VERSION:2.0
PRODID:-//ChamberMaster//Event Calendar 2.0//EN
METHOD:PUBLISH
X-PUBLISHED-TTL:P3D
REFRESH-INTERVAL:P3D
CALSCALE:GREGORIAN
BEGIN:VEVENT
DTSTART:20141012T180000Z
DTEND:20141012T200000Z
X-MICROSOFT-CDO-ALLDAYEVENT:FALSE
SUMMARY:Live Theater - Whose Wives Are They Anyway?
DESCRIPTION:A frantic farce of how far you would go to impress your new boss. Rated PG-13
X-ALT-DESC;FMTTYPE=text/html:A frantic farce of how far you would go to impress your new boss. Rated PG-13
LOCATION:Blue Ridge Community Theater\; Blue Ridge GA
UID:e.256.27472
SEQUENCE:3
DTSTAMP:20260424T045155Z
URL:https://members.visitblairsvillega.com/events/details/live-theater-whose-wives-are-they-anyway-10-12-2014-27472
END:VEVENT

END:VCALENDAR
