BEGIN:VCALENDAR
VERSION:2.0
PRODID:-//ChamberMaster//Event Calendar 2.0//EN
METHOD:PUBLISH
X-PUBLISHED-TTL:P3D
REFRESH-INTERVAL:P3D
CALSCALE:GREGORIAN
BEGIN:VEVENT
DTSTART:20140501T153000Z
DTEND:20140501T170000Z
X-MICROSOFT-CDO-ALLDAYEVENT:FALSE
SUMMARY:Living Will Workshop
DESCRIPTION:This is a free workshop for the community and will feature exactly what a Living Will entails and how it should be written. The workshop will take place the FIRST THURSDAY OF EACH MONTH at Union General Hospital.
X-ALT-DESC;FMTTYPE=text/html:This is a free workshop for the community and will feature exactly what a Living Will entails and how it should be written. The workshop will take place the FIRST THURSDAY OF EACH MONTH at Union General Hospital.
LOCATION:Union General Hospital\, 2nd Floor Classroom
UID:e.256.23311
SEQUENCE:3
DTSTAMP:20260424T120123Z
URL:https://members.visitblairsvillega.com/events/details/living-will-workshop-05-01-2014-23311
END:VEVENT

END:VCALENDAR
