BEGIN:VCALENDAR
VERSION:2.0
PRODID:-//ChamberMaster//Event Calendar 2.0//EN
METHOD:PUBLISH
X-PUBLISHED-TTL:P3D
REFRESH-INTERVAL:P3D
CALSCALE:GREGORIAN
BEGIN:VEVENT
DTSTART:20140704T230000Z
DTEND:20140705T000000Z
X-MICROSOFT-CDO-ALLDAYEVENT:FALSE
SUMMARY:Lone Mountain Band
DESCRIPTION:Listen to contemporary Bluegrass with touch of traditional old time music by one of the Chattanooga area's finest bands. The Lone Mountain Band specializes in contemporary bluegrass\, but it maintains a deep respect for the traditional sound and feel of Appalachian music. The group features hard work\, attention to detail and chemistry among its members who bring together many years of collective musical experience.
X-ALT-DESC;FMTTYPE=text/html:Listen to contemporary Bluegrass with touch of traditional old time music by one of the Chattanooga area&#39\;s finest bands. The Lone Mountain Band specializes in contemporary bluegrass\, but it maintains a deep respect for the traditional sound and feel of Appalachian music. The group features hard work\, attention to detail and chemistry among its members who bring together many years of collective musical experience.
LOCATION:The Festival Barn John C. Campbell Folk School One Folk School Road Brasstown NC 28902
UID:e.256.24803
SEQUENCE:3
DTSTAMP:20260424T104112Z
URL:https://members.visitblairsvillega.com/events/details/lone-mountain-band-07-04-2014-24803
END:VEVENT

END:VCALENDAR
