BEGIN:VCALENDAR
VERSION:2.0
PRODID:-//ChamberMaster//Event Calendar 2.0//EN
METHOD:PUBLISH
X-PUBLISHED-TTL:P3D
REFRESH-INTERVAL:P3D
CALSCALE:GREGORIAN
BEGIN:VEVENT
DTSTART:20161107T150000Z
DTEND:20161107T170000Z
X-MICROSOFT-CDO-ALLDAYEVENT:FALSE
SUMMARY:Look Good Feel Better - Helping Women with Cancer
DESCRIPTION:During cancer treatment\, Look Good Feel Better volunteer beauty professionals help you with:\n\n	Skin care and makeup application\n	Tips on wig selection and wig care\n	Dry skin\, discolored nails\n	Scarves\, turbans\, and hats\n	Style tips(Video)\n\nHosted by Union General Hospital
X-ALT-DESC;FMTTYPE=text/html:During cancer treatment\, Look Good Feel Better volunteer beauty professionals help you with:\n<ul>\n	<li>Skin care and makeup application</li>\n	<li>Tips on wig selection and wig care</li>\n	<li>Dry skin\, discolored nails</li>\n	<li>Scarves\, turbans\, and hats</li>\n	<li>Style tips(Video)</li>\n</ul>\nHosted by Union General Hospital
LOCATION:Union General Hospital 35 Hospital Drive\, Blairsville 30512
UID:e.256.59441
SEQUENCE:3
DTSTAMP:20260420T113225Z
URL:https://members.visitblairsvillega.com/events/details/look-good-feel-better-helping-women-with-cancer-59441
END:VEVENT

END:VCALENDAR
