BEGIN:VCALENDAR
VERSION:2.0
PRODID:-//ChamberMaster//Event Calendar 2.0//EN
METHOD:PUBLISH
X-PUBLISHED-TTL:P3D
REFRESH-INTERVAL:P3D
CALSCALE:GREGORIAN
BEGIN:VEVENT
DTSTART:20140606T233000Z
DTEND:20140607T020000Z
X-MICROSOFT-CDO-ALLDAYEVENT:FALSE
SUMMARY:Loretta Lynn
DESCRIPTION:For fifty years now\, Loretta has fashioned a body of work as artistically and commercially successful and as culturally significant as any female performer you'd care to name. Her music has confronted many of the major social issues of her time\, and her life story is a rags-to-riches tale familiar to pop\, rock and country fans alike. The Coal Miner's Daughter the tag refers to a hit single\, an album\, a best-selling autobiography\, an Oscar-winning film\, and to Lynn herself has journeyed from the poverty of the Kentucky hills to Nashville superstardom to her current status as an honest-to-goodness American icon.
X-ALT-DESC;FMTTYPE=text/html:For fifty years now\, Loretta has fashioned a body of work as artistically and commercially successful and as culturally significant as any female performer you&#39\;d care to name. Her music has confronted many of the major social issues of her time\, and her life story is a rags-to-riches tale familiar to pop\, rock and country fans alike. The Coal Miner&#39\;s Daughter the tag refers to a hit single\, an album\, a best-selling autobiography\, an Oscar-winning film\, and to Lynn herself has journeyed from the poverty of the Kentucky hills to Nashville superstardom to her current status as an honest-to-goodness American icon.
LOCATION:The Smoky Mountain Center for the Performing Arts
UID:e.256.24431
SEQUENCE:3
DTSTAMP:20260424T104737Z
URL:https://members.visitblairsvillega.com/events/details/loretta-lynn-06-06-2014-24431
END:VEVENT

END:VCALENDAR
