BEGIN:VCALENDAR
VERSION:2.0
PRODID:-//ChamberMaster//Event Calendar 2.0//EN
METHOD:PUBLISH
X-PUBLISHED-TTL:P3D
REFRESH-INTERVAL:P3D
CALSCALE:GREGORIAN
BEGIN:VEVENT
DTSTART:20150214T000000Z
DTEND:20150214T020000Z
X-MICROSOFT-CDO-ALLDAYEVENT:FALSE
SUMMARY:Lorinda Jones at John C. Campbell Folk School
DESCRIPTION:Lorinda Jones - American & Celtic roots music on dulcimer and Celtic harp
X-ALT-DESC;FMTTYPE=text/html:<div>Lorinda Jones - American &amp\; Celtic roots music on dulcimer and Celtic harp</div>\n
LOCATION:Community Room at John C. Campbell Folk School Brasstown\, NC 28902
UID:e.256.33611
SEQUENCE:3
DTSTAMP:20260424T003612Z
URL:https://members.visitblairsvillega.com/events/details/lorinda-jones-at-john-c-campbell-folk-school-02-13-2015-33611
END:VEVENT

END:VCALENDAR
