BEGIN:VCALENDAR
VERSION:2.0
PRODID:-//ChamberMaster//Event Calendar 2.0//EN
METHOD:PUBLISH
X-PUBLISHED-TTL:P3D
REFRESH-INTERVAL:P3D
CALSCALE:GREGORIAN
BEGIN:VEVENT
DTSTART:20170422T140000Z
DTEND:20170422T203000Z
X-MICROSOFT-CDO-ALLDAYEVENT:FALSE
SUMMARY:Lots of Locks Skinny Felted Alpaca Scarf Class
DESCRIPTION:A very fun scarf\, long and thinner then the traditional nuno felted scarf we offer. It is loaded with 3-d texture from the locks felted in the scarf. The locks come from hand dyed suri locks\, mohair locks and some sheep breed locks. You get to choose from many colors. The base is made form 100% alpaca fiber from our alpacas. We will also add other fun textures from yarns and Angelina. Following the class\, we will visit with the alpacas at Lasso the Moon Alpaca Farm as well as Lardworks glass bead and jewelry studio. All materials included. We begin the morning with homemade sweet breads\, coffee or tea. lunch is a warm yummy farm to table cozy affair. $99.00 each. All levels welcome Teacher: Holly Williams Holly is the owner of Lasso the Moon Alpaca Farm\, Lardworks Studio Inc and Laces of Lore Fiber Art. Holly has been teaching fiber art on the farm for over 10 years. Class Times: 10:00 am - 4:30 pm
X-ALT-DESC;FMTTYPE=text/html:A very fun scarf\, long and thinner then the traditional nuno felted scarf we offer. It is loaded with 3-d texture from the locks felted in the scarf. The locks come from hand dyed suri locks\, mohair locks and some sheep breed locks. You get to choose from many colors. The base is made form 100% alpaca fiber from our alpacas. We will also add other fun textures from yarns and Angelina. Following the class\, we will visit with the alpacas at Lasso the Moon Alpaca Farm as well as Lardworks glass bead and jewelry studio. All materials included. We begin the morning with homemade sweet breads\, coffee or tea. lunch is a warm yummy farm to table cozy affair. $99.00 each. All levels welcome Teacher: Holly Williams Holly is the owner of Lasso the Moon Alpaca Farm\, Lardworks Studio Inc and Laces of Lore Fiber Art. Holly has been teaching fiber art on the farm for over 10 years. Class Times: 10:00 am - 4:30 pm
LOCATION:Lasso the Moon Alpaca Farm\, 106 Agape Drive\, Blairsville\, GA 30512
UID:e.256.69251
SEQUENCE:3
DTSTAMP:20260420T024558Z
URL:https://members.visitblairsvillega.com/events/details/lots-of-locks-skinny-felted-alpaca-scarf-class-69251
END:VEVENT

END:VCALENDAR
