BEGIN:VCALENDAR
VERSION:2.0
PRODID:-//ChamberMaster//Event Calendar 2.0//EN
METHOD:PUBLISH
X-PUBLISHED-TTL:P3D
REFRESH-INTERVAL:P3D
CALSCALE:GREGORIAN
BEGIN:VEVENT
DTSTART:20140209T210000Z
DTEND:20140209T230000Z
X-MICROSOFT-CDO-ALLDAYEVENT:FALSE
SUMMARY:Love Worth Fighting For
DESCRIPTION:The Bible repeatedly uses father\, husband\, bride and child analogies to demonstrate God's relationship with the church and his followers. There is no better example of the unconditional love God has for us than what we are instructed to have for our spouse and children. Building upon these themes\, Love Worth Fighting For is a marriage event\, featuring teaching by Kirk Cameron and music by Warren Barfield\, designed to strengthen and encourage your marriage.
X-ALT-DESC;FMTTYPE=text/html:The Bible repeatedly uses father\, husband\, bride and child analogies to demonstrate God&#39\;s relationship with the church and his followers. There is no better example of the unconditional love God has for us than what we are instructed to have for our spouse and children. Building upon these themes\, Love Worth Fighting For is a marriage event\, featuring teaching by Kirk Cameron and music by Warren Barfield\, designed to strengthen and encourage your marriage.
LOCATION:Smoky Mountain Center for the Performing Arts 1028 Georgia Road Franklin\, NC 28734
UID:e.256.20571
SEQUENCE:3
DTSTAMP:20260424T180536Z
URL:https://members.visitblairsvillega.com/events/details/love-worth-fighting-for-02-09-2014-20571
END:VEVENT

END:VCALENDAR
