BEGIN:VCALENDAR
VERSION:2.0
PRODID:-//ChamberMaster//Event Calendar 2.0//EN
METHOD:PUBLISH
X-PUBLISHED-TTL:P3D
REFRESH-INTERVAL:P3D
CALSCALE:GREGORIAN
BEGIN:VEVENT
DTSTART:20150701T140000Z
DTEND:20150701T200000Z
X-MICROSOFT-CDO-ALLDAYEVENT:FALSE
SUMMARY:Lucky Cat Thrift Store Grand Opening
DESCRIPTION:Whiskers Project is having a Grand Opening for their Lucky Cat Thrift Store! Proceeds will help fund their spay neuter program.
X-ALT-DESC;FMTTYPE=text/html:<span style="font-size:16px\;"><span style="font-weight: bold\;"><span style="font-family: baskerville old face\;">Whiskers Project is having a Grand Opening for their Lucky Cat Thrift Store!</span></span><strong><span style="font-weight: bold\;"><span style="font-family: baskerville old face\;"> </span></span></strong><span style="font-family: baskerville old face\;">Proceeds will help fund their spay neuter program</span>.</span>
LOCATION:5933 Hwy 515 East Blairsville
UID:e.256.40404
SEQUENCE:3
DTSTAMP:20260423T151324Z
URL:https://members.visitblairsvillega.com/events/details/lucky-cat-thrift-store-grand-opening-07-01-2015-40404
END:VEVENT

END:VCALENDAR
