BEGIN:VCALENDAR
VERSION:2.0
PRODID:-//ChamberMaster//Event Calendar 2.0//EN
METHOD:PUBLISH
X-PUBLISHED-TTL:P3D
REFRESH-INTERVAL:P3D
CALSCALE:GREGORIAN
BEGIN:VEVENT
DTSTART:20150627T180000Z
DTEND:20150627T210000Z
X-MICROSOFT-CDO-ALLDAYEVENT:FALSE
SUMMARY:Lucky Cat Thrift Store Open House
DESCRIPTION:Whiskers Project is having an open house for Lucky Cat Thrift Store! Come by for refreshments and see this exciting new store that will help fund their spay/neuter program. They will also be having a Grand Opening\,Wednesday\, July 1st. 10am-4pm
X-ALT-DESC;FMTTYPE=text/html:<span style="font-size: 16px\;"><strong><span style="font-weight: bold\;"><span style="font-family: baskerville old face\;">Whiskers Project is having an open house for Lucky Cat Thrift Store!</span></span></strong> <span style="font-family: baskerville old face\;">Come by for refreshments and see this exciting new store that will help fund their spay/neuter program</span>.</span> <span style="font-size: 16px\;"><span style="font-weight: bold\;"><span style="font-family: baskerville old face\;">They will also be having a Grand Opening\,</span></span><span style="font-weight: bold\;"><span style="font-family: baskerville old face\;">Wednesday\, July 1st. </span></span><span style="font-weight: bold\;"><span style="font-family: baskerville old face\;">10am-4pm</span></span><br />\n&nbsp\;</span><br />\n&nbsp\;
LOCATION:5933 Hwy 515 East Blairsville
UID:e.256.40403
SEQUENCE:3
DTSTAMP:20260423T165344Z
URL:https://members.visitblairsvillega.com/events/details/lucky-cat-thrift-store-open-house-06-27-2015-40403
END:VEVENT

END:VCALENDAR
