BEGIN:VCALENDAR
VERSION:2.0
PRODID:-//ChamberMaster//Event Calendar 2.0//EN
METHOD:PUBLISH
X-PUBLISHED-TTL:P3D
REFRESH-INTERVAL:P3D
CALSCALE:GREGORIAN
BEGIN:VEVENT
DTSTART:20160323T153000Z
DTEND:20160323T170000Z
X-MICROSOFT-CDO-ALLDAYEVENT:FALSE
SUMMARY:Lunch & Learn "Creative & Inexpensive Ways to Market Your Business/Organization"
DESCRIPTION:"Creative & Inexpensive Ways to Market Your Business/Organization"\n\nWhen it comes to marketing your business\, you can't do it all and that's okay.  This interactive session will highlight the importance of promoting a cohesive brand and offer tips to get you thinking like a marketer.  It will equip you with the skills and know-how necessary to find the right creative partner (if needed)\, bring big ideas to the table without the big price tag\, and utilize resources that will help your marketing strategy stay ahead of the curve.\n\n\n\nInstructor Heather Daniel\, TMP\, has over 12 years of experience on both the client and agency side. Heather brings a broad perspective and passion for problem solving.  After graduating with a degree in Mass Communications from Georgia College & State University\, she began a career path that lead her to a boutique PR firm\, a convention & visitors bureau\, a national hotel owners association and an award-winning design agency.
X-ALT-DESC;FMTTYPE=text/html:<span style="font-size: medium\;"><strong><span style="font-family: arial\,sans-serif\;"><span style="color: rgb(51\, 51\, 51)\;">&nbsp\;<span style="font-size: 14px\;">&quot\;Creative &amp\; Inexpensive Ways to Market Your Business/Organization&quot\;</span></span></span></strong></span><br />\n<em><strong><span style="font-size: 9pt\;"><span style="font-family: verdana\,sans-serif\;"><span style="color: rgb(51\, 51\, 51)\;">When it comes to marketing your business\, you can&#39\;t do it all and that&#39\;s okay. &nbsp\;This interactive session will highlight the importance of promoting a cohesive brand and offer tips to get you thinking like a marketer. &nbsp\;It will equip you with the skills and know-how necessary to find the right creative partner (if needed)\, bring big ideas to the table without the big price tag\, and utilize resources that will help your marketing strategy stay ahead of the curve.</span></span></span></strong></em><br />\n<br />\n<span style="color: rgb(51\, 51\, 51)\; font-family: &quot\;Arial&quot\;\,&quot\;sans-serif&quot\;\; font-size: 9pt\; mso-fareast-font-family: Calibri\; mso-fareast-theme-font: minor-latin\; mso-ansi-language: EN-US\; mso-fareast-language: EN-US\; mso-bidi-language: AR-SA\;"><strong>Instructor Heather Daniel\, TMP\, has over 12 years of experience on both the client and agency side. Heather brings a broad perspective and passion for problem solving. &nbsp\;After graduating with a degree in Mass Communications from Georgia College &amp\; State University\, she began a career path that lead her to a boutique PR firm\, a convention &amp\; visitors bureau\, a national hotel owners association and an award-winning design agency.</strong></span><br />\n&nbsp\;
LOCATION:Towns County Conference & Recreation Center\, 150 Foster Park Road\, Young Harris 30582 (off Mining Gap Road)
UID:e.256.50534
SEQUENCE:3
DTSTAMP:20260421T022551Z
URL:https://members.visitblairsvillega.com/events/details/lunch-learn-creative-inexpensive-ways-to-market-your-business-organization-03-23-2016-50534
END:VEVENT

END:VCALENDAR
