BEGIN:VCALENDAR
VERSION:2.0
PRODID:-//ChamberMaster//Event Calendar 2.0//EN
METHOD:PUBLISH
X-PUBLISHED-TTL:P3D
REFRESH-INTERVAL:P3D
CALSCALE:GREGORIAN
BEGIN:VEVENT
DTSTART:20150411T123000Z
DTEND:20150411T160000Z
X-MICROSOFT-CDO-ALLDAYEVENT:FALSE
SUMMARY:LUNGevity Breathe Deep Blue Ridge 5K run/walk
DESCRIPTION:April 11th\, 2015 will mark our 4th annual 'Breathe Deep Blue Ridge' 5K Walk/Run here at Mercier Orchards! Breathe Deep Blue Ridge is a grassroots event planned and managed by the Mercier Orchards family in Blue Ridge\, Georgia. Melissa Lillard\, a 3rd generation family member\, was diagnosed in February 2011 with stage IV lung cancer. We are raising awareness that Lung Cancer is not just a smoker's disease and that it has no boundaries! We welcome everyone to come and enjoy a brisk run or walk through our orchards\, surrounded by friends and apple blossoms. All of the proceeds will go the the LUNGevity Foundation to fund research\, early detection\, and lung cancer awareness. We will offer food and live entertainment for the whole family\, as well as the 5K run/walk. Dogs are not allowed in the orchards this year. Sorry for any inconvenience!
X-ALT-DESC;FMTTYPE=text/html:April 11th\, 2015 will mark our 4th annual &#39\;Breathe Deep Blue Ridge&#39\; 5K Walk/Run here at Mercier Orchards! Breathe Deep Blue Ridge is a grassroots event planned and managed by the Mercier Orchards family in Blue Ridge\, Georgia. Melissa Lillard\, a 3rd generation family member\, was diagnosed in February 2011 with stage IV lung cancer. We are raising awareness that Lung Cancer is not just a smoker&#39\;s disease and that it has no boundaries! We welcome everyone to come and enjoy a brisk run or walk through our orchards\, surrounded by friends and apple blossoms. All of the proceeds will go the the LUNGevity Foundation to fund research\, early detection\, and lung cancer awareness. We will offer food and live entertainment for the whole family\, as well as the 5K run/walk. Dogs are not allowed in the orchards this year. Sorry for any inconvenience!
LOCATION:Mercier Orchards
UID:e.256.38097
SEQUENCE:3
DTSTAMP:20260423T212126Z
URL:https://members.visitblairsvillega.com/events/details/lungevity-breathe-deep-blue-ridge-5k-run-walk-04-11-2015-38097
END:VEVENT

END:VCALENDAR
