BEGIN:VCALENDAR
VERSION:2.0
PRODID:-//ChamberMaster//Event Calendar 2.0//EN
METHOD:PUBLISH
X-PUBLISHED-TTL:P3D
REFRESH-INTERVAL:P3D
CALSCALE:GREGORIAN
BEGIN:VEVENT
DTSTART:20150201T150000Z
DTEND:20150201T230000Z
X-MICROSOFT-CDO-ALLDAYEVENT:FALSE
SUMMARY:Lynn Mayes Exhibit
DESCRIPTION:Celebrate Lynn's original contemporary paintings\, both conceptual and neo-impressionist landscapes and figurative works. Her palette and images are both intriguing and soothing. Opening Reception is January 17\, 5-7pm.\n\nContact information: blueridgearts@gmail.com.
X-ALT-DESC;FMTTYPE=text/html:<span style="font-size:12pt"><span style="font-family:adobe caslon pro bold\,serif">Celebrate Lynn&rsquo\;s </span></span><span style="font-size:12pt"><span style="font-family:adobe caslon pro bold\,serif">original contemporary paintings\, both conceptual and neo-impressionist landscapes and figurative works</span></span><span style="font-size:12pt"><span style="font-family:adobe caslon pro bold\,serif">. Her palette and images are both intriguing and soothing. <strong>Opening Reception is January 17\, 5-7pm.</strong></span></span><br />\n<span style="font-size:12pt"><span style="font-family:adobe caslon pro bold\,serif">Contact information: blueridgearts@gmail.com.</span></span><br />\n&nbsp\;
LOCATION:The Blue Ridge Mountains Arts Association/The Art Center
UID:e.256.34734
SEQUENCE:3
DTSTAMP:20260423T225616Z
URL:https://members.visitblairsvillega.com/events/details/lynn-mayes-exhibit-02-01-2015-34734
END:VEVENT

END:VCALENDAR
