BEGIN:VCALENDAR
VERSION:2.0
PRODID:-//ChamberMaster//Event Calendar 2.0//EN
METHOD:PUBLISH
X-PUBLISHED-TTL:P3D
REFRESH-INTERVAL:P3D
CALSCALE:GREGORIAN
BEGIN:VEVENT
DTSTART:20151121T003000Z
DTEND:20151121T033000Z
X-MICROSOFT-CDO-ALLDAYEVENT:FALSE
SUMMARY:Lysa Terkeurst
DESCRIPTION:Lysa Terkeurst is a New York Times bestselling author and speaker who helps everyday women live an adventure of faith through following Jesus Christ. As president of Proverbs 31 Ministries\, Lysa has led thousands to make their walk with God an invigorating journey. For over 15 years\, her message has enabled women to: Make the Bible come alive whenever you read it\, discover how to develop inner peace and security in any situation\, replace doubt\, regret\, and envy with truth\, confidence\, and praise and stop unhealthy cycles of striving and learn to love who you are while sensing God's responding to your prayers. Lysa's amazing story has led to appearances on The Oprah Winfrey Show\, Good Morning America\, The 700 Club\, USA Today newspaper\, Woman's Day magazine\, and Focus on the Family radio.
X-ALT-DESC;FMTTYPE=text/html:Lysa Terkeurst is a New York Times bestselling author and speaker who helps everyday women live an adventure of faith through following Jesus Christ. As president of Proverbs 31 Ministries\, Lysa has led thousands to make their walk with God an invigorating journey. For over 15 years\, her message has enabled women to: Make the Bible come alive whenever you read it\, discover how to develop inner peace and security in any situation\, replace doubt\, regret\, and envy with truth\, confidence\, and praise and stop unhealthy cycles of striving and learn to love who you are while sensing God&#39\;s responding to your prayers. Lysa&#39\;s amazing story has led to appearances on The Oprah Winfrey Show\, Good Morning America\, The 700 Club\, USA Today newspaper\, Woman&#39\;s Day magazine\, and Focus on the Family radio.
LOCATION:Smoky Mountain Center for the Performing Arts 1028 Georgia Road Franklin\, NC 28734
UID:e.256.41400
SEQUENCE:3
DTSTAMP:20260423T084814Z
URL:https://members.visitblairsvillega.com/events/details/lysa-terkeurst-11-20-2015-41400
END:VEVENT

END:VCALENDAR
