BEGIN:VCALENDAR
VERSION:2.0
PRODID:-//ChamberMaster//Event Calendar 2.0//EN
METHOD:PUBLISH
X-PUBLISHED-TTL:P3D
REFRESH-INTERVAL:P3D
CALSCALE:GREGORIAN
BEGIN:VEVENT
DTSTART:20140227T230000Z
DTEND:20140228T010000Z
X-MICROSOFT-CDO-ALLDAYEVENT:FALSE
SUMMARY:M+Arty Party Business Networking
DESCRIPTION:Small business in the backbone of our economy\, and that means YOU are the backbone...and The Mountain M+arty's mission is to grow and expand your business in a fun\, exciting\, no pressure way.   FREE Event FREE Food FREE Drink Awesome Networking Let's MARTY!
X-ALT-DESC;FMTTYPE=text/html:Small business in the backbone of our economy\, and that means YOU are the backbone...and The Mountain M+arty&#39\;s mission is to grow and expand your business in a fun\, exciting\, no pressure way. &nbsp\; FREE Event FREE Food FREE Drink Awesome Networking Let&#39\;s MARTY!
LOCATION:Doyle's Cedar Hill Restaurant 925 Andrews Rd. Murphy\, NC 28906
UID:e.256.23028
SEQUENCE:3
DTSTAMP:20260424T180544Z
URL:https://members.visitblairsvillega.com/events/details/m-arty-party-business-networking-02-27-2014-23028
END:VEVENT

END:VCALENDAR
