BEGIN:VCALENDAR
VERSION:2.0
PRODID:-//ChamberMaster//Event Calendar 2.0//EN
METHOD:PUBLISH
X-PUBLISHED-TTL:P3D
REFRESH-INTERVAL:P3D
CALSCALE:GREGORIAN
BEGIN:VEVENT
DTSTART:20140327T213000Z
DTEND:20140328T000000Z
X-MICROSOFT-CDO-ALLDAYEVENT:FALSE
SUMMARY:M+Arty Party Business Networking
DESCRIPTION:The M+Arty Party is most exciting and effective monthly networking event for you to expand your business network in 2014. FREE Event FREE Food  FREE Drink Fantastic Networking  Come yourself or bring a crowd to The Oaks at The Ridges Resort\, a class act\, top notch venue...a wonderful place to bring your clients and prospective clients! 5:45 Learn how to network effectively 6-8 M+Arty Party Networking
X-ALT-DESC;FMTTYPE=text/html:The M+Arty Party is most exciting and effective monthly networking event for you to expand your business network in 2014. FREE Event FREE Food&nbsp\; FREE Drink Fantastic Networking&nbsp\; Come yourself or bring a crowd to The Oaks at The Ridges Resort\, a class act\, top notch venue...a wonderful place to bring your clients and prospective clients! 5:45 Learn how to network effectively 6-8 M+Arty Party Networking
LOCATION:The Oaks 3493 US Hwy 76 W\, Hiawassee\, GA 30582
UID:e.256.23446
SEQUENCE:3
DTSTAMP:20260424T152846Z
URL:https://members.visitblairsvillega.com/events/details/m-arty-party-business-networking-03-27-2014-23446
END:VEVENT

END:VCALENDAR
