BEGIN:VCALENDAR
VERSION:2.0
PRODID:-//ChamberMaster//Event Calendar 2.0//EN
METHOD:PUBLISH
X-PUBLISHED-TTL:P3D
REFRESH-INTERVAL:P3D
CALSCALE:GREGORIAN
BEGIN:VEVENT
DTSTART:20140529T213000Z
DTEND:20140530T000000Z
X-MICROSOFT-CDO-ALLDAYEVENT:FALSE
SUMMARY:M+Arty Party Business Networking
DESCRIPTION:The M+Arty Party is the most fun and effective monthly networking event for you to expand your business network in 2014. FREE Event FREE Food  FREE Drink Fantastic Networking Come enjoy not only wonderful food\, drinks and networking\, but one of the greatest views in the area...right on the lake with LIVE music.   5:30-5:45 Networking Tips 6-8 M+Arty Party
X-ALT-DESC;FMTTYPE=text/html:The M+Arty Party is the most fun and effective monthly networking event for you to expand your business network in 2014. FREE Event FREE Food&nbsp\; FREE Drink Fantastic Networking Come enjoy not only wonderful food\, drinks and networking\, but one of the greatest views in the area...right on the lake with LIVE music. &nbsp\; 5:30-5:45 Networking Tips 6-8 M+Arty Party
LOCATION:The Blue Otter 3399 US Hwy 76 Hiawassee\, GA 30546
UID:e.256.23449
SEQUENCE:3
DTSTAMP:20260424T121406Z
URL:https://members.visitblairsvillega.com/events/details/m-arty-party-business-networking-05-29-2014-23449
END:VEVENT

END:VCALENDAR
