BEGIN:VCALENDAR
VERSION:2.0
PRODID:-//ChamberMaster//Event Calendar 2.0//EN
METHOD:PUBLISH
X-PUBLISHED-TTL:P3D
REFRESH-INTERVAL:P3D
CALSCALE:GREGORIAN
BEGIN:VEVENT
DTSTART:20160625T230000Z
DTEND:20160626T010000Z
X-MICROSOFT-CDO-ALLDAYEVENT:FALSE
SUMMARY:Mad for the Arts Gala
DESCRIPTION:Experience the Swinging Sixties with BRMAA's 'Mad for the Arts' Fundraising Gala! Dress up as your favorite character from Mad Men\, or in your best 1960 s garb for this year's summer fundraiser. Enjoy scrumptious food and drinks\, unique silent auction and auction games\, photo booth and dancing.  Proceeds from this event help support the Blue Ridge Mountains Arts Associations mission of providing opportunities in the realm of the arts for the individual and the community. Tickets $45\, $90 Couples
X-ALT-DESC;FMTTYPE=text/html:<span style="font-size: 13.5pt\;"><span style="font-family: adobe caslon pro bold\,serif\;"><span style="color: rgb(70\, 70\, 70)\;">Experience the Swinging Sixties with BRMAA&rsquo\;s &lsquo\;Mad for the Arts&rsquo\; Fundraising Gala! Dress up as your favorite character from Mad Men\, or in your best 1960</span></span></span><span style="font-size: 13.5pt\;"><span style="font-family: times new roman\,serif\;"><span style="color: rgb(70\, 70\, 70)\;">&prime\;</span></span></span><span style="font-size: 13.5pt\;"><span style="font-family: adobe caslon pro bold\,serif\;"><span style="color: rgb(70\, 70\, 70)\;">s garb for this year&#39\;s summer fundraiser. Enjoy scrumptious food and drinks\,</span></span></span>&nbsp\;<span style="font-size: 13.5pt\;"><span style="font-family: adobe caslon pro bold\,serif\;"><span style="color: rgb(70\, 70\, 70)\;">unique silent auction and auction games\, photo booth and dancing.</span></span></span>&nbsp\;<span style="font-size: 13.5pt\;"><span style="font-family: adobe caslon pro bold\,serif\;"><span style="color: rgb(70\, 70\, 70)\;"> Proceeds from this event help support the Blue Ridge Mountains Arts Associations mission of providing opportunities in the realm of the arts for the individual and the community. Tickets $45\, $90 Couples </span></span></span><br />\n&nbsp\;
LOCATION:Blue Ridge Swim & Tennis Club
UID:e.256.50657
SEQUENCE:3
DTSTAMP:20260420T222627Z
URL:https://members.visitblairsvillega.com/events/details/mad-for-the-arts-gala-06-25-2016-50657
END:VEVENT

END:VCALENDAR
