BEGIN:VCALENDAR
VERSION:2.0
PRODID:-//ChamberMaster//Event Calendar 2.0//EN
METHOD:PUBLISH
X-PUBLISHED-TTL:P3D
REFRESH-INTERVAL:P3D
CALSCALE:GREGORIAN
BEGIN:VEVENT
DTSTART:20150404T140000Z
DTEND:20150404T210000Z
X-MICROSOFT-CDO-ALLDAYEVENT:FALSE
SUMMARY:MAIN STREET SHOPS - EGG*STRAVAGANZA
DESCRIPTION:JOIN MAIN STREET SHOPS for an EGG*STRAVAGANZA\n\nPick an Easter Egg to get your discount with purchase.\n\n Saturday April 4th 10-5\n\n\n\nEnjoy refreshments & fun with\n\n     CHARMED ACCENTS\n\n           AMY'S ATTIC\n\n       ESSENCE OF ROSE\n\n        PAINTING CHARM  and\n\n         POLLY'S PANTRY\n\nLocated 3 miles west of Blairsville on hwy 515 next to Ware Chevy
X-ALT-DESC;FMTTYPE=text/html:JOIN MAIN STREET SHOPS for an EGG*STRAVAGANZA<br />\nPick an Easter Egg to get your discount with purchase.<br />\n&nbsp\;Saturday April 4th 10-5<br />\n<br />\nEnjoy refreshments &amp\; fun with<br />\n&nbsp\;&nbsp\;&nbsp\;&nbsp\; CHARMED ACCENTS<br />\n&nbsp\;&nbsp\;&nbsp\;&nbsp\;&nbsp\;&nbsp\;&nbsp\;&nbsp\;&nbsp\;&nbsp\; AMY&#39\;S ATTIC<br />\n&nbsp\;&nbsp\;&nbsp\;&nbsp\; &nbsp\; ESSENCE OF ROSE<br />\n&nbsp\;&nbsp\;&nbsp\;&nbsp\;&nbsp\; &nbsp\; PAINTING CHARM&nbsp\; and<br />\n&nbsp\;&nbsp\;&nbsp\;&nbsp\;&nbsp\;&nbsp\;&nbsp\;&nbsp\; POLLY&#39\;S PANTRY<br />\nLocated 3 miles west of Blairsville on hwy 515 next to Ware Chevy
LOCATION:MAIN STREET SHOPS 3 MILES WEST OF BLAIRSVILLE ON HWY 515 NEXT TO WARE CHEVY
UID:e.256.37957
SEQUENCE:3
DTSTAMP:20260423T211834Z
URL:https://members.visitblairsvillega.com/events/details/main-street-shops-egg-stravaganza-04-04-2015-37957
END:VEVENT

END:VCALENDAR
