BEGIN:VCALENDAR
VERSION:2.0
PRODID:-//ChamberMaster//Event Calendar 2.0//EN
METHOD:PUBLISH
X-PUBLISHED-TTL:P3D
REFRESH-INTERVAL:P3D
CALSCALE:GREGORIAN
BEGIN:VEVENT
DTSTART:20140328T153000Z
DTEND:20140328T173000Z
X-MICROSOFT-CDO-ALLDAYEVENT:FALSE
SUMMARY:Making Your Mobile Device Your Best Friend
DESCRIPTION:Making Your Mobile Device Your Best Friend\n\n\n\nPresented by Jonathan Fleischer of Firm Answers Now\n\n\n\nHave you been in a meeting with someone who is using their mobile device (tablet or iPad) like a pro and wish you could be that savvy?  Well\, this is your chance to learn how to professionally conduct business from your mobile device so that you have everything you need exactly when and where you need it.  No experience needed.
X-ALT-DESC;FMTTYPE=text/html:<span style="font-family: arial\;"><strong><span style="font-size: 10pt\;">Making Your Mobile Device Your Best Friend</span></strong><br />\n<br />\n<span style="font-size: 10pt\;">Presented</span><span style="font-size: 10pt\;"> by Jonathan Fleischer of Firm Answers Now</span></span><br />\n<br />\n<span style="font-size: 10pt\;"><span style="font-family: calibri\;"><span style="font-family: arial\;">Have you been in a meeting with someone who is using their mobile device (tablet or iPad) like a pro and wish you could be that savvy?&nbsp\; Well\, this is your chance to learn how to professionally conduct business from your mobile device so that you have everything you need exactly when and where you need it.&nbsp\; No experience needed</span>. </span></span><br />\n&nbsp\;
LOCATION:Union County Community Center 129 Union County Rec Road Blairsville\, GA
UID:e.256.22944
SEQUENCE:3
DTSTAMP:20260424T152046Z
URL:https://members.visitblairsvillega.com/events/details/making-your-mobile-device-your-best-friend-03-28-2014-22944
END:VEVENT

END:VCALENDAR
