BEGIN:VCALENDAR
VERSION:2.0
PRODID:-//ChamberMaster//Event Calendar 2.0//EN
METHOD:PUBLISH
X-PUBLISHED-TTL:P3D
REFRESH-INTERVAL:P3D
CALSCALE:GREGORIAN
BEGIN:VEVENT
DTSTART:20160129T150000Z
DTEND:20160129T170000Z
X-MICROSOFT-CDO-ALLDAYEVENT:FALSE
SUMMARY:Managing the Backyard Flock
DESCRIPTION:Considering raising chickens in your back yard? Come to this free seminar to learn how to properly manage your home flock. Appropriate breed selection\, nutrition\, housing\, and health issues will be discussed. Our speakers are Mr. Kolt Owenby\, USDA Animal Health Technician and Dr. Casey Ritz\, professor\, UGA department of Poultry Science.
X-ALT-DESC;FMTTYPE=text/html:Considering raising chickens in your back yard? Come to this free seminar to learn how to properly manage your home flock. Appropriate breed selection\, nutrition\, housing\, and health issues will be discussed. Our speakers are Mr. Kolt Owenby\, USDA Animal Health Technician and Dr. Casey Ritz\, professor\, UGA department of Poultry Science.
LOCATION:The Georgia Mountain Research & Education Center\, 3 miles south of the Blairsville Square\, on the east side of Hwy 19/129.
UID:e.256.46192
SEQUENCE:3
DTSTAMP:20260421T073811Z
URL:https://members.visitblairsvillega.com/events/details/managing-the-backyard-flock-01-29-2016-46192
END:VEVENT

END:VCALENDAR
