BEGIN:VCALENDAR
VERSION:2.0
PRODID:-//ChamberMaster//Event Calendar 2.0//EN
METHOD:PUBLISH
X-PUBLISHED-TTL:P3D
REFRESH-INTERVAL:P3D
CALSCALE:GREGORIAN
BEGIN:VEVENT
DTSTART:20150322T140000Z
DTEND:20150322T210000Z
X-MICROSOFT-CDO-ALLDAYEVENT:FALSE
SUMMARY:March STRA Trials
DESCRIPTION:The 7th Annual Trackrock Trials Competition (Southeastern Trials Riders Association sanctioned event)  will be held on March 21st and 22nd.  This really is an event to see and great family fun!  For more info on what trials is all about\, see http://stratrials.com/\n\nBe sure to click on the "Photos" button to see photos from our past trials events. \n\nSunday start time 10a.m.
X-ALT-DESC;FMTTYPE=text/html:<span style="font-size: 10pt\;"><span style="font-family: arial\,sans-serif\;"><span style="color: black\;">The 7th Annual Trackrock Trials Competition (Southeastern Trials Riders Association sanctioned event) &nbsp\;will be held on March 21st and 22nd.&nbsp\; This really is an event to see and great family fun!&nbsp\; For more info on what trials is all about\, see&nbsp\;</span></span></span><a href="http://r20.rs6.net/tn.jsp?e=001wPUMiOY3DHBh9LaEsQiY740eo0dk3ZAAKOIx7yjPIycDhlctXZpOQ_Mjpk14U_1BwTSN-BxUqQJjVrjUAWHJ_wAbtSUknNdHWeLcmCKN2yU=" target="_blank"><span style="font-size: 10pt\;"><span style="font-family: arial\,sans-serif\;"><span style="color: rgb(0\, 0\, 255)\;">http://stratrials.com/</span></span></span></a><br />\n<span style="font-size: 10pt\;"><span style="font-family: arial\,sans-serif\;"><span style="color: black\;">Be sure to click on the &quot\;Photos&quot\; button to see photos from our past trials events. </span></span></span>\n\n<p style="margin: 0in 0in 0pt\;"><span style="color: black\; font-family: &quot\;Arial&quot\;\,&quot\;sans-serif&quot\;\; font-size: 10pt\;">Sunday start time 10a.m.<o:p></o:p></span></p>\n<span style="font-size: 10pt\;"><span style="font-family: arial\,sans-serif\;"><span style="color: black\;">&nbsp\; </span></span></span>
LOCATION:Trackrock Cabins & Campground
UID:e.256.37710
SEQUENCE:3
DTSTAMP:20260423T211737Z
URL:https://members.visitblairsvillega.com/events/details/march-stra-trials-03-22-2015-37710
END:VEVENT

END:VCALENDAR
