BEGIN:VCALENDAR
VERSION:2.0
PRODID:-//ChamberMaster//Event Calendar 2.0//EN
METHOD:PUBLISH
X-PUBLISHED-TTL:P3D
REFRESH-INTERVAL:P3D
CALSCALE:GREGORIAN
BEGIN:VEVENT
DTSTART:20150307T003000Z
DTEND:20150307T020000Z
X-MICROSOFT-CDO-ALLDAYEVENT:FALSE
SUMMARY:Mark Lowry/The Martins
DESCRIPTION:Mark Lowry/The Martins - Friday\, March 6\, 2015 - 7:30pm It's been talked about for years and is now finally coming to pass. Gospel music legends Mark Lowry and The Martins will hit the road together with their Music & Madness tour. The history between Mark and sibling trio Joyce\, Jonathan and Judy Martin spans more than two decades and can be traced back to a cassette tape The Martins gave him at a national convention in 1992. Mark and fellow Gaither Vocal Band-mate Michael English were so impressed\, they insisted Gloria Gaither listen to an impromptu audition of the group. Gloria then told husband Bill and the rest is history as the Gaithers helped introduce The Martins to the world. Ticket Prices: $20\, $25\, $30
X-ALT-DESC;FMTTYPE=text/html:Mark Lowry/The Martins - Friday\, March 6\, 2015 - 7:30pm It&#39\;s been talked about for years and is now finally coming to pass. Gospel music legends Mark Lowry and The Martins will hit the road together with their Music &amp\; Madness tour. The history between Mark and sibling trio Joyce\, Jonathan and Judy Martin spans more than two decades and can be traced back to a cassette tape The Martins gave him at a national convention in 1992. Mark and fellow Gaither Vocal Band-mate Michael English were so impressed\, they insisted Gloria Gaither listen to an impromptu audition of the group. Gloria then told husband Bill and the rest is history as the Gaithers helped introduce The Martins to the world. Ticket Prices: $20\, $25\, $30
LOCATION:Smoky Mountain Center for the Performing Arts 1028 Georgia Road Franklin\, NC 28734
UID:e.256.37634
SEQUENCE:3
DTSTAMP:20260423T211810Z
URL:https://members.visitblairsvillega.com/events/details/mark-lowry-the-martins-03-06-2015-37634
END:VEVENT

END:VCALENDAR
