BEGIN:VCALENDAR
VERSION:2.0
PRODID:-//ChamberMaster//Event Calendar 2.0//EN
METHOD:PUBLISH
X-PUBLISHED-TTL:P3D
REFRESH-INTERVAL:P3D
CALSCALE:GREGORIAN
BEGIN:VEVENT
DTSTART:20170316T230000Z
DTEND:20170317T010000Z
X-MICROSOFT-CDO-ALLDAYEVENT:FALSE
SUMMARY:Mark's Gospel LIVE
DESCRIPTION:Mark's Gospel LIVE is a performance of the entire Gospel of Mark in two awesome hours of storytelling by Rev. Joseph Morris\, priest and actor. Rev. Morris memorized and staged the Gospel of Mark when he broke his leg and was confined to bed. It took about 4 months to commit the 15\,000 words to memory. This is not a reading or a talk - not just a man reciting Mark standing still. It is action-packed storytelling\, with many voices and movement. It is a great way for the whole family to experience the greatest story ever told\, just as people did in the first century.
X-ALT-DESC;FMTTYPE=text/html:Mark&#39\;s Gospel LIVE is a performance of the entire Gospel of Mark in two awesome hours of storytelling by Rev. Joseph Morris\, priest and actor. Rev. Morris memorized and staged the Gospel of Mark when he broke his leg and was confined to bed. It took about 4 months to commit the 15\,000 words to memory. This is not a reading or a talk - not just a man reciting Mark standing still. It is action-packed storytelling\, with many voices and movement. It is a great way for the whole family to experience the greatest story ever told\, just as people did in the first century.
LOCATION:St. Francis of Assisi Catholic Church 3717 Hwy 515 East Blairsville\, Ga
UID:e.256.69116
SEQUENCE:3
DTSTAMP:20260420T042231Z
URL:https://members.visitblairsvillega.com/events/details/mark-s-gospel-live-69116
END:VEVENT

END:VCALENDAR
