BEGIN:VCALENDAR
VERSION:2.0
PRODID:-//ChamberMaster//Event Calendar 2.0//EN
METHOD:PUBLISH
X-PUBLISHED-TTL:P3D
REFRESH-INTERVAL:P3D
CALSCALE:GREGORIAN
BEGIN:VEVENT
DTSTART:20141023T153000Z
DTEND:20141023T173000Z
X-MICROSOFT-CDO-ALLDAYEVENT:FALSE
SUMMARY:Marketing Class with Howard Flint
DESCRIPTION:Build Your Marketing Toolkit - Instructor Howard Flint \n\nHoward Flint of the Ghost Partner is back! Learn how to build a foundation of marketing knowledge from which you can build more and more effective campaigns. \n\nMany small businesses and organizations find themselves seeking the right strategies to make their marketing efforts as effective as possible.  But with so many different marketing activities that they could focus on\, they often miss some of the important marketing concepts that will help them understand why those activities are so important.  This presentation is designed to uncover some of those core concepts and show that a little bit of marketing knowledge can go a long way.\n\nAttendees of this presentation will learn:\n\n \n\n	What marketing really is (and isn't).\n	How marketing has changed in ways that benefit small businesses.\n	The importance of setting goals and objectives for your marketing efforts.\n	The 4 Pillars of Marketing Success - a framework that shows how different marketing activities all fit together.\n	It's o.k. to start small\; to start where you already are.\n\nHoward Flint of Ghost Partner has taught several classes over the past few years for the Towns County Chamber and Blairsville-Union County Chamber.
X-ALT-DESC;FMTTYPE=text/html:<span style="font-size: 18pt\;"><span style="font-family: georgia\,serif\;"><span style="color: rgb(157\, 47\, 5)\;">Build Your Marketing Toolkit - Instructor Howard Flint&nbsp\;</span></span></span><br />\n<span style="font-size: 9pt\;"><span style="font-family: arial\,sans-serif\;"><span style="color: black\;">Howard Flint of the Ghost Partner is back! Learn how to build a foundation of marketing knowledge from which you can build more and more effective campaigns.&nbsp\;</span></span></span><br />\n<span style="font-size: 9pt\;"><span style="font-family: arial\,sans-serif\;"><span style="color: black\;">Many small businesses and organizations find themselves seeking the right strategies to make their marketing efforts as effective as possible.&nbsp\; But with so many different marketing activities that they could focus on\, they often miss some of the important marketing concepts that will help them understand why those activities are so important.&nbsp\; This presentation is designed to uncover some of those core concepts and show that a little bit of marketing knowledge can go a long way.</span></span></span><br />\n<span style="font-size: 9pt\;"><span style="font-family: arial\,sans-serif\;"><span style="color: black\;">Attendees of this presentation will learn:</span></span></span><br />\n&nbsp\;\n<ul>\n	<li style="background: rgb(251\, 236\, 168)\;"><span style="font-size: 9pt\;"><span style="font-family: arial\,sans-serif\;"><span style="color: black\;">What marketing really is (and isn&#39\;t).</span></span></span></li>\n	<li style="background: rgb(251\, 236\, 168)\;"><span style="font-size: 9pt\;"><span style="font-family: arial\,sans-serif\;"><span style="color: black\;">How marketing has changed in ways that benefit small businesses.</span></span></span></li>\n	<li style="background: rgb(251\, 236\, 168)\;"><span style="font-size: 9pt\;"><span style="font-family: arial\,sans-serif\;"><span style="color: black\;">The importance of setting goals and objectives for your marketing efforts.</span></span></span></li>\n	<li style="background: rgb(251\, 236\, 168)\;"><span style="font-size: 9pt\;"><span style="font-family: arial\,sans-serif\;"><span style="color: black\;">The 4 Pillars of Marketing Success - a framework that shows how different marketing activities all fit together.</span></span></span></li>\n	<li style="background: rgb(251\, 236\, 168)\;"><span style="font-size: 9pt\;"><span style="font-family: arial\,sans-serif\;"><span style="color: black\;">It&#39\;s o.k. to start small\; to start where you already are.</span></span></span></li>\n</ul>\n<span style="font-size: 9pt\;"><span style="font-family: arial\,sans-serif\;"><span style="color: black\;">Howard Flint of Ghost Partner has taught several classes over the past few years for the Towns County Chamber and Blairsville-Union County Chamber.&nbsp\;</span></span></span><br />\n&nbsp\;
LOCATION:Towns County Chamber of Commerce Jack Dayton Cir\, Young Harris\, GA 30582
UID:e.256.27594
SEQUENCE:3
DTSTAMP:20260424T045158Z
URL:https://members.visitblairsvillega.com/events/details/marketing-class-with-howard-flint-10-23-2014-27594
END:VEVENT

END:VCALENDAR
