BEGIN:VCALENDAR
VERSION:2.0
PRODID:-//ChamberMaster//Event Calendar 2.0//EN
METHOD:PUBLISH
X-PUBLISHED-TTL:P3D
REFRESH-INTERVAL:P3D
CALSCALE:GREGORIAN
BEGIN:VEVENT
DTSTART:20160728T130000Z
DTEND:20160728T160000Z
X-MICROSOFT-CDO-ALLDAYEVENT:FALSE
SUMMARY:Marketing Strategies and Tactics - SBDC
DESCRIPTION:The Gainesville office presents a class to help small businesses market and understand their target market.  Don't miss this class. \n\nJoin us to learn about marketing strategies and tactics for your small business.  Topics Include: 1) Creating a roadmap and a strategy for your marketing\; 2) Understanding your customers needs\; 3) Learning about personal selling\; 4) Learning about distribution channels.
X-ALT-DESC;FMTTYPE=text/html:The Gainesville office presents a class to help small businesses market and understand their target market.&nbsp\; Don&#39\;t miss this class.&nbsp\;<br />\nJoin us to learn about marketing strategies and tactics for your small business.&nbsp\; <strong>Topics Include</strong>:&nbsp\;1) Creating a roadmap and a strategy for your marketing\; 2) Understanding your customers needs\; 3) Learning about personal selling\; 4) Learning about distribution channels.
LOCATION:SBDC office\, 906 Interstate Ridge Drive\, Suite B\, Gainesville\, GA 30501
UID:e.256.54026
SEQUENCE:3
DTSTAMP:20260420T184431Z
URL:https://members.visitblairsvillega.com/events/details/marketing-strategies-and-tactics-sbdc-07-28-2016-54026
END:VEVENT

END:VCALENDAR
