BEGIN:VCALENDAR
VERSION:2.0
PRODID:-//ChamberMaster//Event Calendar 2.0//EN
METHOD:PUBLISH
X-PUBLISHED-TTL:P3D
REFRESH-INTERVAL:P3D
CALSCALE:GREGORIAN
BEGIN:VEVENT
DTSTART:20150829T233000Z
DTEND:20150830T020000Z
X-MICROSOFT-CDO-ALLDAYEVENT:FALSE
SUMMARY:Marty Stuart & Connie Smith
DESCRIPTION:The gospel-singing\, bluegrass-playing\, "Hillbilly Rock" making superstar\, Marty Stuart\, is a four-time Grammy winner and a platinum recording artist. Widely recognized as one of the most important roots musicians in America\, Marty possesses a showman's zest for every conceivable flavor of country music. Hits include "Tempted" and "This One's Gonna Hurt You." Marty continues to delight audiences across the country with his weekly television hit\, The Marty Stuart Show\, on RFD-TV.Connie Smith has been influencing country music's top artists for decades with her fervent joy in singing and her love for the emotional and physical act of letting loose a great song\, all of which is as evident on her recordings as it is in front of audiences at the Grand Ole Opry\, on RFD TV's weekly The Marty Stuart Show\, or on the road. In 2012\, Connie received the field's highest honor\, induction into the Country Music Hall of Fame.
X-ALT-DESC;FMTTYPE=text/html:The gospel-singing\, bluegrass-playing\, &quot\;Hillbilly Rock&quot\; making superstar\, Marty Stuart\, is a four-time Grammy winner and a platinum recording artist. Widely recognized as one of the most important roots musicians in America\, Marty possesses a showman&#39\;s zest for every conceivable flavor of country music. Hits include &quot\;Tempted&quot\; and &quot\;This One&#39\;s Gonna Hurt You.&quot\; Marty continues to delight audiences across the country with his weekly television hit\, The Marty Stuart Show\, on RFD-TV.Connie Smith has been influencing country music&#39\;s top artists for decades with her fervent joy in singing and her love for the emotional and physical act of letting loose a great song\, all of which is as evident on her recordings as it is in front of audiences at the Grand Ole Opry\, on RFD TV&#39\;s weekly The Marty Stuart Show\, or on the road. In 2012\, Connie received the field&#39\;s highest honor\, induction into the Country Music Hall of Fame.
LOCATION:Smoky Mountain Center for the Performing Arts 1028 Georgia Road Franklin\, NC 28734
UID:e.256.41283
SEQUENCE:3
DTSTAMP:20260423T133826Z
URL:https://members.visitblairsvillega.com/events/details/marty-stuart-connie-smith-08-29-2015-41283
END:VEVENT

END:VCALENDAR
