BEGIN:VCALENDAR
VERSION:2.0
PRODID:-//ChamberMaster//Event Calendar 2.0//EN
METHOD:PUBLISH
X-PUBLISHED-TTL:P3D
REFRESH-INTERVAL:P3D
CALSCALE:GREGORIAN
BEGIN:VEVENT
DTSTART:20150716T180000Z
DTEND:20150716T190000Z
X-MICROSOFT-CDO-ALLDAYEVENT:FALSE
SUMMARY:Marvel Comics Artist Jerry DeCaire Science of the Superhero
DESCRIPTION:Jerry DeCaire\, artist for Marvel Comics' Thor\, Avenger's Hawkeye\, Iron Man\, Wolverine\, and many other popular superheroes\, will show how math and science merge to create a superhero.\n\n\n\nhttp://www.comicartist.net/\n\n\n\nHosted by: Union County Public Library
X-ALT-DESC;FMTTYPE=text/html:Jerry DeCaire\, artist for Marvel Comics&#39\; Thor\, Avenger&#39\;s Hawkeye\, Iron Man\, Wolverine\, and many other popular superheroes\, will show how math and science merge to create a superhero.<br />\n<br />\nhttp://www.comicartist.net/<br />\n<br />\nHosted by: Union County Public Library<br />\n<br />\n&nbsp\;
LOCATION:Union County Civic Center 165 Welborn St.
UID:e.256.41261
SEQUENCE:3
DTSTAMP:20260423T151556Z
URL:https://members.visitblairsvillega.com/events/details/marvel-comics-artist-jerry-decaire-science-of-the-superhero-07-16-2015-41261
END:VEVENT

END:VCALENDAR
