BEGIN:VCALENDAR
VERSION:2.0
PRODID:-//ChamberMaster//Event Calendar 2.0//EN
METHOD:PUBLISH
X-PUBLISHED-TTL:P3D
REFRESH-INTERVAL:P3D
CALSCALE:GREGORIAN
BEGIN:VEVENT
DTSTART:20140302T000000Z
DTEND:20140302T030000Z
X-MICROSOFT-CDO-ALLDAYEVENT:FALSE
SUMMARY:Masquerade for CASA
DESCRIPTION:Masquerade for CASA\nSaturday\, March 1\, 2014 7:00pm - 10:00pm\n\nVenue at FArris\, 1450 Lumpkin County Parkway\, Dahlonega\, GA 30533\n\n\n\nDinner catered by Bourbon Street Grille\n\nTickets $45 per person $80 per couple $310 for table of 8\n\nDon't miss this fabulous evening of a party with an important purpose!\n\nDinner & Dancing.\n\nChocolate tastings by Paul Thomas\, Chocolates.\n\n$1000 raffle\, mask contest. silent auction\, and lots of Fun!\n\n\n\nTo purchase tickets: call 706-864-0300 or email: outreach@enotahcasa.org\n\nSupport Enotah CASA in our mission to help the abused children of our community!
X-ALT-DESC;FMTTYPE=text/html:<div style="text-align: center\;"><em><strong><span style="font-family: comic sans ms\;">Masquerade for CASA</span></strong></em></div>\nSaturday\, March 1\, 2014 7:00pm - 10:00pm<br />\nVenue at FArris\, 1450 Lumpkin County Parkway\, Dahlonega\, GA 30533<br />\n<br />\nDinner catered by Bourbon Street Grille<br />\nTickets $45 per person $80 per couple $310 for table of 8<br />\nDon&#39\;t miss this fabulous evening of a party with an important purpose!<br />\nDinner &amp\; Dancing.<br />\nChocolate tastings by Paul Thomas\, Chocolates.<br />\n$1000 raffle\, mask contest. silent auction\, and lots of Fun!<br />\n<br />\nTo purchase tickets: call 706-864-0300 or&nbsp\;email: outreach@enotahcasa.org<br />\n<strong><em>Support Enotah CASA in our mission to help the abused children of our community!</em></strong>
LOCATION:Venue at FArris 1450 Lumpkin County Parkway Dahlonega\, GA 30533
UID:e.256.23233
SEQUENCE:3
DTSTAMP:20260424T164451Z
URL:https://members.visitblairsvillega.com/events/details/masquerade-for-casa-03-01-2014-23233
END:VEVENT

END:VCALENDAR
