BEGIN:VCALENDAR
VERSION:2.0
PRODID:-//ChamberMaster//Event Calendar 2.0//EN
METHOD:PUBLISH
X-PUBLISHED-TTL:P3D
REFRESH-INTERVAL:P3D
CALSCALE:GREGORIAN
BEGIN:VEVENT
DTSTART:20160813T140000Z
DTEND:20160813T203000Z
X-MICROSOFT-CDO-ALLDAYEVENT:FALSE
SUMMARY:Mastering the Formula for Manifesting
DESCRIPTION:Mastering the formula for Manifesting.\n\n\n\nJoin Aleya for a 1 day intensive class on how to manifest your desires using the higher realms.
X-ALT-DESC;FMTTYPE=text/html:<p style="text-align:center"><u><em><span style="font-size:14px">Mastering the formula for Manifesting.</span></em></u><br />\n<br />\nJoin Aleya for a 1 day intensive class on how to manifest your desires using the higher realms.</p>\n
LOCATION:Unity Church of the Mountains 2309 Murphy Hwy. Blairsville\, GA. 30512
UID:e.256.53047
SEQUENCE:3
DTSTAMP:20260420T182103Z
URL:https://members.visitblairsvillega.com/events/details/mastering-the-formula-for-manifesting-08-13-2016-53047
END:VEVENT

END:VCALENDAR
