BEGIN:VCALENDAR
VERSION:2.0
PRODID:-//ChamberMaster//Event Calendar 2.0//EN
METHOD:PUBLISH
X-PUBLISHED-TTL:P3D
REFRESH-INTERVAL:P3D
CALSCALE:GREGORIAN
BEGIN:VEVENT
DTSTART:20140823T150000Z
DTEND:20140823T190000Z
X-MICROSOFT-CDO-ALLDAYEVENT:FALSE
SUMMARY:Maters & Music Day
DESCRIPTION:The event is 'Maters and Music Day'.  The invitation is to all who love tomato sandwiches the old fashioned way--on white bread with plenty of mayo.  But other bread choices will be available. These sandwiches will be served free of charge to all comers.  At the same time\, you will enjoy gospel and blue grass music by the Bennie Shook Family and the Shady Grove Blue Grass Band.  And as a special treat\, Gainesville Times writer Johnny Vardeman will be on hand to share his insights on the subject of tomatoes.  And tomatoes will be on sale during this event.  Come at any time between the stated hours. Plan to visit the Welcome Center gift shop and take a tour through our exhibits area while you are there.
X-ALT-DESC;FMTTYPE=text/html:<span style="font-size: 12px\;">The event is &#39\;Maters and Music Day&#39\;.&nbsp\; The invitation is to all who love tomato sandwiches the old fashioned way--on white bread with plenty of mayo.&nbsp\; But other bread choices will be available. These sandwiches will be served free of charge to all comers.&nbsp\; At the same time\, you will enjoy gospel and blue grass music by the Bennie Shook Family and the&nbsp\;Shady Grove Blue Grass Band.&nbsp\; And as a special treat\, Gainesville Times writer Johnny Vardeman will be on hand to share his insights on the subject of tomatoes.&nbsp\; And tomatoes will be on sale during this event.&nbsp\; Come at any time between the stated hours. Plan to visit the Welcome Center gift shop and take a tour through our exhibits area while you are there.</span>
LOCATION:Reece Farm and Heritage Center is located in Union County 8552 Gainesville Highway Blairsville\, GA 30512 One mile north of Vogel State Park on U.S. Highway 129. This event will be held in the group pavilion across the bridge on the south end of the Reece Farm venue.
UID:e.256.26146
SEQUENCE:3
DTSTAMP:20260424T091808Z
URL:https://members.visitblairsvillega.com/events/details/maters-music-day-08-23-2014-26146
END:VEVENT

END:VCALENDAR
