BEGIN:VCALENDAR
VERSION:2.0
PRODID:-//ChamberMaster//Event Calendar 2.0//EN
METHOD:PUBLISH
X-PUBLISHED-TTL:P3D
REFRESH-INTERVAL:P3D
CALSCALE:GREGORIAN
BEGIN:VEVENT
DTSTART:20170413T210000Z
DTEND:20170413T221500Z
X-MICROSOFT-CDO-ALLDAYEVENT:FALSE
SUMMARY:Maundy Thursday
DESCRIPTION:Maundy Thursday Services with Holy Communion and the stripping of the Altar. Sermon: "Do you know what I have done for you?' John 13:1-17
X-ALT-DESC;FMTTYPE=text/html:Maundy Thursday Services with Holy Communion and the stripping of the Altar. Sermon: &quot\;Do you know what I have done for you?&#39\; John 13:1-17
LOCATION:Shepherd of the Hills Lutheran Church\, 823 Forge Mill Rd\, Morganton\, GA
UID:e.256.71033
SEQUENCE:3
DTSTAMP:20260420T023736Z
URL:https://members.visitblairsvillega.com/events/details/maundy-thursday-71033
END:VEVENT

END:VCALENDAR
