BEGIN:VCALENDAR
VERSION:2.0
PRODID:-//ChamberMaster//Event Calendar 2.0//EN
METHOD:PUBLISH
X-PUBLISHED-TTL:P3D
REFRESH-INTERVAL:P3D
CALSCALE:GREGORIAN
BEGIN:VEVENT
DTSTART:20160324T210000Z
DTEND:20160324T220000Z
X-MICROSOFT-CDO-ALLDAYEVENT:FALSE
SUMMARY:Maundy Thursday Service
DESCRIPTION:We invite you to join us as we contemplate Jesus's suffering and death for our sins on Thursday\, March 24 at 5:00 p.m. Worship with Holy Communion.
X-ALT-DESC;FMTTYPE=text/html:<strong>We invite you to join us as we contemplate Jesus&#39\;s suffering and death for our sins on Thursday\, March 24 at 5:00 p.m. Worship with Holy Communion.</strong>
LOCATION:All Saints Lutheran Church LCMS 83 Earl Shelton Rd. Blairsville\, GA
UID:e.256.49852
SEQUENCE:3
DTSTAMP:20260421T021602Z
URL:https://members.visitblairsvillega.com/events/details/maundy-thursday-service-03-24-2016-49852
END:VEVENT

END:VCALENDAR
