BEGIN:VCALENDAR
VERSION:2.0
PRODID:-//ChamberMaster//Event Calendar 2.0//EN
METHOD:PUBLISH
X-PUBLISHED-TTL:P3D
REFRESH-INTERVAL:P3D
CALSCALE:GREGORIAN
BEGIN:VEVENT
DTSTART:20150402T230000Z
DTEND:20150403T000000Z
X-MICROSOFT-CDO-ALLDAYEVENT:FALSE
SUMMARY:Maundy Thursday Worship Service
DESCRIPTION:"Broken  Sanctuary"\n\nLuke 22:39-48   The prayerful sanctuary of the garden is broken by the tired disciples and an angry crowd.\n\n\n\nCommunion
X-ALT-DESC;FMTTYPE=text/html:<h1><span style="font-family: arial\;"><span style="font-size: 14px\;"><strong>&ldquo\;Broken&nbsp\; Sanctuary&rdquo\;</strong></span></span></h1>\n\n<p><span style="font-family: arial\;"><span style="font-size: 12px\;">Luke 22:39-48 &ndash\; <em>The prayerful sanctuary of the garden is broken by the tired disciples and an angry crowd.</em></span><br />\n<br />\nCommunion</span></p>\n
LOCATION:All Saints Lutheran Church From Blairsville: At the traffic light (Post Office on the right/Home Depot on the left) drive approximately 4 1/2 miles. All Saints is located on the right just as the East bound lanes change from two lanes to one lane. From Hiawassee: Drive West on highway 515 through Young Harris towards Blairsville. All Saints is located on the left just as the West bound lanes change from two lanes to one lane. From Murphy: Drive West on highway 64. Turn left on Hwy. 19/129 (Blairsville Hwy). In Blairsville\, turn left onto Hwy. 515 and drive approximately 5 miles. All Saints is located on the right just as the East bound lanes change from two lanes to one lane.
UID:e.256.37734
SEQUENCE:3
DTSTAMP:20260423T200118Z
URL:https://members.visitblairsvillega.com/events/details/maundy-thursday-worship-service-04-02-2015-37734
END:VEVENT

END:VCALENDAR
