BEGIN:VCALENDAR
VERSION:2.0
PRODID:-//ChamberMaster//Event Calendar 2.0//EN
METHOD:PUBLISH
X-PUBLISHED-TTL:P3D
REFRESH-INTERVAL:P3D
CALSCALE:GREGORIAN
BEGIN:VEVENT
DTSTART:20170821T150000Z
DTEND:20170821T200000Z
X-MICROSOFT-CDO-ALLDAYEVENT:FALSE
SUMMARY:Meeks Moon Party
DESCRIPTION:Spend the day at Meeks Park with your friends and family. Bring your chairs or blankets. Food trucks will be onsite for your dining pleasure.  \n\n\n\nSponsored by Habitat for Humanity of Towns/Union\, Union County Recreation Department\, and the Blairsville-Union County Chamber of Commerce. \n\n\n\nNo alcohol allowed. No weapons allowed. No pets allowed. Critical to wear safety glasses during partial phases of eclipse.
X-ALT-DESC;FMTTYPE=text/html:Spend the day at Meeks Park with your friends and family. Bring your chairs or blankets. Food trucks will be onsite for your dining pleasure. &nbsp\;<br />\n<br />\nSponsored by Habitat for Humanity of Towns/Union\, Union County Recreation Department\, and the Blairsville-Union County Chamber of Commerce.&nbsp\;<br />\n<br />\nNo alcohol allowed. No weapons allowed. No pets allowed. Critical to wear safety glasses during partial phases of eclipse.
LOCATION:Meeks Park 490 Meeks Park Rd Directions: From Hwy 515/76 traveling west (towards Blairsville) - pass the red light at Nelson Tractor/Walmart (Kiutuestia Creek road). In approx. 3 miles\, turn right into Meeks Park (across from North Georgia Technical College)
UID:e.256.75379
SEQUENCE:3
DTSTAMP:20260419T194530Z
URL:https://members.visitblairsvillega.com/events/details/meeks-moon-party-75379
END:VEVENT

END:VCALENDAR
