BEGIN:VCALENDAR
VERSION:2.0
PRODID:-//ChamberMaster//Event Calendar 2.0//EN
METHOD:PUBLISH
X-PUBLISHED-TTL:P3D
REFRESH-INTERVAL:P3D
CALSCALE:GREGORIAN
BEGIN:VEVENT
DTSTART:20140510T150000Z
DTEND:20140510T150000Z
X-MICROSOFT-CDO-ALLDAYEVENT:FALSE
SUMMARY:Meet Author Elizabeth O. Dulemba
DESCRIPTION:When the birds return to Water Street\, will anyone be left to hear them sing? A miner's strike allows green and growing things to return to the Red Hills\, but that same strike may force residents to seek new homes and livelihoods elsewhere. Follow the story of Jack Hicks as he struggles to hold on to everything he loves the most. Based on our very own North Georgia Mountains and the history of copper mining. Come to The Art Center Saturday\, May 10th at 11am and meet the author Elizabeth O. Dulemba. Books will be made available for sale during this event. Join us in celebrating a piece of our local history!
X-ALT-DESC;FMTTYPE=text/html:When the birds return to Water Street\, will anyone be left to hear them sing? A miner&#39\;s strike allows green and growing things to return to the Red Hills\, but that same strike may force residents to seek new homes and livelihoods elsewhere. Follow the story of Jack Hicks as he struggles to hold on to everything he loves the most. Based on our very own North Georgia Mountains and the history of copper mining. Come to The Art Center Saturday\, May 10th at 11am and meet the author Elizabeth O. Dulemba. Books will be made available for sale during this event. Join us in celebrating a piece of our local history!
LOCATION:Blue Ridge Mountains Arts Association The Art Center 420 West Main Street Blue Ridge\, GA 30513
UID:e.256.24358
SEQUENCE:3
DTSTAMP:20260424T122205Z
URL:https://members.visitblairsvillega.com/events/details/meet-author-elizabeth-o-dulemba-05-10-2014-24358
END:VEVENT

END:VCALENDAR
