BEGIN:VCALENDAR
VERSION:2.0
PRODID:-//ChamberMaster//Event Calendar 2.0//EN
METHOD:PUBLISH
X-PUBLISHED-TTL:P3D
REFRESH-INTERVAL:P3D
CALSCALE:GREGORIAN
BEGIN:VEVENT
DTSTART:20141027T173000Z
DTEND:20141027T183000Z
X-MICROSOFT-CDO-ALLDAYEVENT:FALSE
SUMMARY:Meet Governor Nathan Deal
DESCRIPTION:Deal's statewide bus tour will be stopping in Blairsville.\n\nIf you missed the Governor at the Union GOP BBQ here is another chance to hear from him directly. Please RSVP to Pat Malone if you are planning to attend so that we can insure a large turnout for his visit. Any questions call Pat at 706 835 1308 or 404 630 7504. Thanks for your continued support.
X-ALT-DESC;FMTTYPE=text/html:<span style="color:black\;"><span style="font-family:arial\,sans-serif\;"><span style="font-size:10.0pt\;">Deal&#39\;s statewide bus tour will be stopping in Blairsville.</span></span></span><br />\n<span style="color:black\;"><span style="font-family:arial\,sans-serif\;"><span style="font-size:10.0pt\;">If you missed the Governor at the Union GOP BBQ here is another chance to hear from him directly. Please RSVP to&nbsp\;Pat Malone if you are planning to attend so that we can insure a large turnout for his visit. Any questions call&nbsp\;Pat at 706 835 1308 or 404 630 7504. Thanks for your continued support.</span></span></span>
LOCATION:Pat Haralson Civic Center 165 Welborn St.
UID:e.256.27674
SEQUENCE:3
DTSTAMP:20260424T045451Z
URL:https://members.visitblairsvillega.com/events/details/meet-governor-nathan-deal-10-27-2014-27674
END:VEVENT

END:VCALENDAR
