BEGIN:VCALENDAR
VERSION:2.0
PRODID:-//ChamberMaster//Event Calendar 2.0//EN
METHOD:PUBLISH
X-PUBLISHED-TTL:P3D
REFRESH-INTERVAL:P3D
CALSCALE:GREGORIAN
BEGIN:VEVENT
DTSTART:20140417T200000Z
DTEND:20140417T230000Z
X-MICROSOFT-CDO-ALLDAYEVENT:FALSE
SUMMARY:Member for a Night Open House
DESCRIPTION:Come out and see all we have to offer! Bring your friends\, family and co workers. Everyone who attends will receive a Golf Pass to play as a member with a guest. Our Country Store & Children's Emporium will be hosting a special 25% off sale. During on the event night\, spend $50 dollars and receive a $10 dollar gift certificate for a future purchase. Country Store items include: Jewelry\, Scarves\, Life is Good\, Home D cor and many unique items you can't find elsewhere. Our Golf apparel lines include: Adidas\, FootJoy & Ashworth. We are an exclusive Titleist club fitting and retail location. Memberships: Special Pricing for new members signing up at the event. --Full Golf Memberships --Health Club Memberships --Corporate Memberships REFRESHMENTS WILL BE SERVED
X-ALT-DESC;FMTTYPE=text/html:Come out and see all we have to offer! Bring your friends\,&nbsp\;family and co workers. Everyone who attends will receive a&nbsp\;Golf Pass to play as a member with a guest. Our Country Store &amp\; Children&#39\;s Emporium will be hosting a special 25% off sale. During on the event night\, spend $50 dollars and receive a $10&nbsp\;dollar gift certificate for a future purchase. Country Store items include: Jewelry\, Scarves\, Life is Good\, Home D&eacute\;cor and many unique items you&nbsp\;can&#39\;t find elsewhere. Our Golf apparel lines include: Adidas\, FootJoy &amp\; Ashworth. We are an exclusive Titleist club&nbsp\;fitting and retail location. Memberships: Special Pricing for new members&nbsp\;signing up at the event. --Full Golf Memberships --Health Club Memberships --Corporate Memberships REFRESHMENTS WILL BE SERVED
LOCATION:Brasstown Valley Resort & Spa Pro Shop & Country Store
UID:e.256.23774
SEQUENCE:3
DTSTAMP:20260424T133443Z
URL:https://members.visitblairsvillega.com/events/details/member-for-a-night-open-house-04-17-2014-23774
END:VEVENT

END:VCALENDAR
