BEGIN:VCALENDAR
VERSION:2.0
PRODID:-//ChamberMaster//Event Calendar 2.0//EN
METHOD:PUBLISH
X-PUBLISHED-TTL:P3D
REFRESH-INTERVAL:P3D
CALSCALE:GREGORIAN
BEGIN:VEVENT
DTSTART:20140313T120000Z
DTEND:20140313T133000Z
X-MICROSOFT-CDO-ALLDAYEVENT:FALSE
SUMMARY:Member Orientation 2014
DESCRIPTION:Blairsville - Union County Chamber of Commerce\n\nPresents\n\nMember Orientation\n\n\n\nIt is our goal to maximize our members' success\, the community's competitiveness and the area's economic prosperity. \n\nCome out and find out how to get the most of your\n\nChamber membership.\n\n\n\nLIMITED SPACE AVAILABLE\n\n\n\nBreakfast Sponsored by Waffle House
X-ALT-DESC;FMTTYPE=text/html:<div style="text-align: center\; color: gray\;"><span style="font-size: 12px\;"><span style="font-family: tahoma\;"><span style="color: rgb(0\, 0\, 0)\;"><em><span style="font-size: 14px\;">Blairsville - Union County Chamber of Commerce</span></em><br />\n<span style="font-size: 16px\;"><span style="font-size: 12px\;">Presents</span><br />\n<span style="font-size: 20px\;">Member Orientation</span></span></span><br />\n<br />\n<span style="color: rgb(0\, 0\, 0)\;"><span style="font-size: 14px\;">It is our goal to maximize our members&#39\; success\, the community&#39\;s competitiveness and the area&#39\;s economic prosperity.&nbsp\;<br />\nCome out and find out how to get the most of your<br />\nChamber membership.</span><br />\n<br />\n<span style="font-size: 16px\;">LIMITED SPACE AVAILABLE</span><br />\n<br />\n<span style="font-size: 18px\;">Breakfast Sponsored by Waffle House&nbsp\;</span></span></span></span></div>\n\n<div style="color: gray\;">&nbsp\;</div>\n
LOCATION:Blairsville-Union County Chamber of Commerce
UID:e.256.22945
SEQUENCE:3
DTSTAMP:20260424T151846Z
URL:https://members.visitblairsvillega.com/events/details/member-orientation-2014-03-13-2014-22945
END:VEVENT

END:VCALENDAR
