BEGIN:VCALENDAR
VERSION:2.0
PRODID:-//ChamberMaster//Event Calendar 2.0//EN
METHOD:PUBLISH
X-PUBLISHED-TTL:P3D
REFRESH-INTERVAL:P3D
CALSCALE:GREGORIAN
BEGIN:VEVENT
DTSTART:20150524T170000Z
DTEND:20150524T200000Z
X-MICROSOFT-CDO-ALLDAYEVENT:FALSE
SUMMARY:Memorial Day Celebration at Hightower Creek Vineyards
DESCRIPTION:Come celebrate Memorial Day with us at Hightower Creek Vineyards with live music by Mike Armstrong from 1-4pm! We are open from 12-6pm. Admission is $10.00 and includes a glass of wine or wine tasting. Bring a picnic lunch to enjoy with any of our wines or try one of our artisanal cheese samplers. Children are welcome! Leashed pets are welcome outside.
X-ALT-DESC;FMTTYPE=text/html:Come celebrate Memorial Day with us at Hightower Creek Vineyards with live music by Mike Armstrong from 1-4pm! We are open from 12-6pm. Admission is $10.00 and includes a glass of wine or wine tasting. Bring a picnic lunch to enjoy with any of our wines or try one of our artisanal cheese samplers. Children are welcome! Leashed pets are welcome outside.&nbsp\;
LOCATION:7150 Canaan Drive Hiawassee\, GA 30546
UID:e.256.40287
SEQUENCE:3
DTSTAMP:20260423T182655Z
URL:https://members.visitblairsvillega.com/events/details/memorial-day-celebration-at-hightower-creek-vineyards-05-24-2015-40287
END:VEVENT

END:VCALENDAR
