BEGIN:VCALENDAR
VERSION:2.0
PRODID:-//ChamberMaster//Event Calendar 2.0//EN
METHOD:PUBLISH
X-PUBLISHED-TTL:P3D
REFRESH-INTERVAL:P3D
CALSCALE:GREGORIAN
BEGIN:VEVENT
DTSTART:20150523T140000Z
DTEND:20150523T160000Z
X-MICROSOFT-CDO-ALLDAYEVENT:FALSE
SUMMARY:Memorial Day Parade
DESCRIPTION:Memorial Day Parade & Ceremony\n\nSaturday\, May 23\, 2015\n\nParade at 10:00am
X-ALT-DESC;FMTTYPE=text/html:Memorial Day Parade &amp\; Ceremony<br />\nSaturday\, May 23\, 2015<br />\nParade at&nbsp\;10:00am
LOCATION:Downtown on the Square Blairsville
UID:e.256.27619
SEQUENCE:3
DTSTAMP:20260423T182146Z
URL:https://members.visitblairsvillega.com/events/details/memorial-day-parade-05-23-2015-27619
END:VEVENT

END:VCALENDAR
